BEGIN:VCALENDAR
VERSION:2.0
PRODID:-//Squarespace Inc/Squarespace 6//v6//EN
BEGIN:VEVENT
UID:5816a3d0d2b857ceb9ff286a@squarespace.com
DTSTAMP:20171214T221719Z
DTSTART:20181210T220000Z
DTEND:20181210T220000Z
SUMMARY:CFO Awards
END:VEVENT
END:VCALENDAR
