BEGIN:VCALENDAR
VERSION:2.0
PRODID:-//Squarespace Inc/Squarespace 6//v6//EN
BEGIN:VEVENT
UID:57ed7dd41b631be553db4fbb@squarespace.com
DTSTAMP:20171214T220935Z
DTSTART:20180913T210000Z
DTEND:20180913T210000Z
SUMMARY:IBM Kenexa Best Workplaces Award
END:VEVENT
END:VCALENDAR
