BEGIN:VCALENDAR
VERSION:2.0
PRODID:-//Squarespace Inc/Squarespace 6//v6//EN
BEGIN:VEVENT
UID:5a32fc900852299f5e923c7c@squarespace.com
DTSTAMP:20171214T224915Z
DTSTART:20180620T220000Z
DTEND:20180620T230000Z
SUMMARY:Best Design Awards
END:VEVENT
END:VCALENDAR
