BEGIN:VCALENDAR
VERSION:2.0
PRODID:-//Squarespace Inc/Squarespace 6//v6//EN
BEGIN:VEVENT
UID:57e47277b8a79b1b1ac8f8fe@squarespace.com
DTSTAMP:20171214T221313Z
DTSTART:20180303T220000Z
DTEND:20180303T220000Z
SUMMARY:Wellington Gold Awards
END:VEVENT
END:VCALENDAR
