BEGIN:VCALENDAR
VERSION:2.0
PRODID:-//Squarespace Inc/Squarespace 6//v6//EN
BEGIN:VEVENT
UID:57e473288419c29418b67e36@squarespace.com
DTSTAMP:20171214T221303Z
DTSTART:20180528T210000Z
DTEND:20180528T210000Z
SUMMARY:Diversity Awards
END:VEVENT
END:VCALENDAR
