BEGIN:VCALENDAR
VERSION:2.0
PRODID:-//Squarespace Inc/Squarespace 6//v6//EN
BEGIN:VEVENT
UID:5812bee029687fc02854b94c@squarespace.com
DTSTAMP:20180530T000714Z
DTSTART:20180530T220000Z
DTEND:20180831T210000Z
SUMMARY:Plain English Awards
END:VEVENT
END:VCALENDAR
